BEGIN:VCALENDAR
VERSION:2.0
PRODID:-//162.241.24.230//NONSGML kigkonsult.se iCalcreator 2.26.9//
CALSCALE:GREGORIAN
METHOD:PUBLISH
X-FROM-URL:https://www.fwcommunity.org
X-WR-TIMEZONE:America/Los_Angeles
BEGIN:VTIMEZONE
TZID:America/Los_Angeles
X-LIC-LOCATION:America/Los_Angeles
BEGIN:STANDARD
DTSTART:20251102T020000
TZOFFSETFROM:-0700
TZOFFSETTO:-0800
RDATE:20261101T020000
TZNAME:PST
END:STANDARD
BEGIN:DAYLIGHT
DTSTART:20260308T020000
TZOFFSETFROM:-0800
TZOFFSETTO:-0700
RDATE:20270314T020000
TZNAME:PDT
END:DAYLIGHT
END:VTIMEZONE
BEGIN:VEVENT
UID:ai1ec-20693@www.fwcommunity.org
DTSTAMP:20260423T142312Z
CATEGORIES;LANGUAGE=en-US:FWC Church Events
CONTACT:
DESCRIPTION:<p><strong>Join us! We meet </strong>in-person each Sunday at 1
 0:00 am.</p>\n<p><b>Wilson Street Learning Center (Dance Studio)<br />\n</
 b><strong>744 Joann Street\, Costa Mesa\, CA 92627 </strong></p>\n<div></d
 iv>\n<div dir='ltr' data-smartmail='gmail_signature'>\n<div dir='ltr'>\n<d
 iv dir='ltr'>\n<div>Faith Worship Community</div>\n<div>office@fwcommunity
 .org</div>\n</div>\n</div>\n</div>\n<p> </p>
DTSTART;TZID=America/Los_Angeles:20230423T100000
DTEND;TZID=America/Los_Angeles:20230423T120000
EXDATE;TZID=America/Los_Angeles:20230212T100000
EXDATE;TZID=America/Los_Angeles:20230409T100000
LOCATION:In-Person @ 744 Joann Street\, Costa Mesa\, CA 92627
RDATE;TZID=America/Los_Angeles:20220102T100000
RDATE;TZID=America/Los_Angeles:20220109T100000
RDATE;TZID=America/Los_Angeles:20220116T100000
RDATE;TZID=America/Los_Angeles:20220123T100000
RDATE;TZID=America/Los_Angeles:20220206T100000
RDATE;TZID=America/Los_Angeles:20220213T100000
RDATE;TZID=America/Los_Angeles:20220220T100000
RDATE;TZID=America/Los_Angeles:20220306T100000
RDATE;TZID=America/Los_Angeles:20220313T100000
RDATE;TZID=America/Los_Angeles:20220320T100000
RDATE;TZID=America/Los_Angeles:20220403T100000
RDATE;TZID=America/Los_Angeles:20220410T100000
RDATE;TZID=America/Los_Angeles:20220417T100000
RDATE;TZID=America/Los_Angeles:20220501T100000
RDATE;TZID=America/Los_Angeles:20220508T100000
RDATE;TZID=America/Los_Angeles:20220515T100000
RDATE;TZID=America/Los_Angeles:20220529T100000
RDATE;TZID=America/Los_Angeles:20220605T100000
RDATE;TZID=America/Los_Angeles:20220619T100000
RDATE;TZID=America/Los_Angeles:20220703T100000
RDATE;TZID=America/Los_Angeles:20220710T100000
RDATE;TZID=America/Los_Angeles:20220717T100000
RDATE;TZID=America/Los_Angeles:20220724T100000
RDATE;TZID=America/Los_Angeles:20220807T100000
RDATE;TZID=America/Los_Angeles:20220814T100000
RDATE;TZID=America/Los_Angeles:20220821T100000
RDATE;TZID=America/Los_Angeles:20230101T100000
RDATE;TZID=America/Los_Angeles:20230108T100000
RDATE;TZID=America/Los_Angeles:20230115T100000
RDATE;TZID=America/Los_Angeles:20230122T100000
RDATE;TZID=America/Los_Angeles:20230129T100000
RDATE;TZID=America/Los_Angeles:20230205T100000
RDATE;TZID=America/Los_Angeles:20230212T100000
RDATE;TZID=America/Los_Angeles:20230219T100000
RDATE;TZID=America/Los_Angeles:20230226T100000
RDATE;TZID=America/Los_Angeles:20230305T100000
RDATE;TZID=America/Los_Angeles:20230312T100000
RDATE;TZID=America/Los_Angeles:20230319T100000
RDATE;TZID=America/Los_Angeles:20230326T100000
RDATE;TZID=America/Los_Angeles:20230402T100000
RDATE;TZID=America/Los_Angeles:20230409T100000
RDATE;TZID=America/Los_Angeles:20230416T100000
RDATE;TZID=America/Los_Angeles:20230423T100000
RDATE;TZID=America/Los_Angeles:20230430T100000
SEQUENCE:0
SUMMARY:10:00 Sunday Service
URL:https://www.fwcommunity.org/event/1000-sunday-service-2-2/
X-COST-TYPE:free
END:VEVENT
BEGIN:VEVENT
UID:ai1ec-20226@www.fwcommunity.org
DTSTAMP:20260423T142312Z
CATEGORIES:
CONTACT:Janet Calhoun\; office@fwcommunity.org
DESCRIPTION:<p style='background: #FAFAFA\; margin: 0in 0in 8.25pt 0in\;'><
 span style='font-size: 10.5pt\; font-family: 'Open Sans'\,serif\; color: #
 5a5a5a\;'>Join us for a time of intercessory prayer and soaking in the Lor
 d’s presence on Tuesday mornings!</span></p>\n<p style='background: #FAFAF
 A\; font-variant-ligatures: normal\; font-variant-caps: normal\; orphans: 
 2\; text-align: start\; widows: 2\; -webkit-text-stroke-width: 0px\; text-
 decoration-thickness: initial\; text-decoration-style: initial\; text-deco
 ration-color: initial\; word-spacing: 0px\; margin: 0in 0in 8.25pt 0in\;'>
 <span style='font-size: 10.5pt\; font-family: 'Open Sans'\,serif\; color: 
 #5a5a5a\;'>God is seeking us\, even now\, seeking to sit with us\, to hear
  from us\, to commune with us – as individuals and as a church.  Sacred Sp
 ace is a space to pray with and for each other\, to meditate and contempla
 te scripture\, to bring your cares and concerns\, your worship and your pr
 aise and to “soak” in His presence.</span></p>\n<p>————————————————–</p>\n
 <p><strong>Join us on Zoom:</strong></p>\n<p><strong><a href='http://zoom.
 fwcommunity.org/'>zoom.fwcommunity.org</a></strong></p>\n<p>Meeting ID: 58
 3 326 5993</p>\n<p> </p>\n<p> </p>\n<p>Audio/Phone only:<br />\nDial in +1
  669 900 6833<br />\nMeeting ID: 583 326 5993</p>
DTSTART;TZID=America/Los_Angeles:20230425T090000
DTEND;TZID=America/Los_Angeles:20230425T100000
RRULE:FREQ=WEEKLY;UNTIL=20241231T235959Z;BYDAY=TU;WKST=MO
SEQUENCE:0
SUMMARY:Sacred Space
URL:https://www.fwcommunity.org/event/sacred-space/
X-COST-TYPE:free
END:VEVENT
BEGIN:VEVENT
UID:ai1ec-21613@www.fwcommunity.org
DTSTAMP:20260423T142312Z
CATEGORIES:
CONTACT:
DESCRIPTION:<div>Join our women’s ministry for a new bible study.</div>\n<d
 iv>The Bible Study is: Living Beyond Yourself: Exploring the Fruit of the 
 Spirit by Beth Moore</div>\n<div>Materials can be purchased at:  <a href='
 https://www.lifeway.com/en/product-family/living-beyond-yourself'>https://
 www.lifeway.com/en/product-family/living-beyond-yourself</a></div>\n<div>
 \n<div></div>\n<div>When:   Tuesday nights\, beginning February 28th</div>
 \n<div>Where:  The Warner home</div>\n<div>Time:     6pm dinner</div>\n<di
 v>               6:30 video</div>\n<div>               7:30-8:30 discussio
 n and prayer</div>\n</div>\n<div></div>\n<div>For further information\, pl
 ease contact Tara at <a href='mailto:mrstarawarner@gmail.com'>mrstarawarne
 r@gmail.com</a></div>
DTSTART;TZID=America/Los_Angeles:20230425T180000
DTEND;TZID=America/Los_Angeles:20230425T203000
EXDATE;TZID=America/Los_Angeles:20230307T180000
EXDATE;TZID=America/Los_Angeles:20230321T180000
RRULE:FREQ=WEEKLY;UNTIL=20230530T235959Z;BYDAY=TU;WKST=MO
SEQUENCE:0
SUMMARY:Women’s Bible Study
URL:https://www.fwcommunity.org/event/womens-bible-study-2/
X-COST-TYPE:free
END:VEVENT
BEGIN:VEVENT
UID:ai1ec-21604@www.fwcommunity.org
DTSTAMP:20260423T142312Z
CATEGORIES;LANGUAGE=en-US:FWC Church Events
CONTACT:Tara Warner\; office@fwcommunity.org
DESCRIPTION:<p>Are you 10 to 17 years old? Meet at the McDermott’s house to
  eat snacks\, play games\, sing songs\, talk about Jesus\, and have fun to
 gether.</p>\n<p>Contact Tara for more information.</p>
DTSTART;TZID=America/Los_Angeles:20230428T183000
DTEND;TZID=America/Los_Angeles:20230428T200000
LOCATION:1228 Belfast Ave
RRULE:FREQ=MONTHLY;COUNT=3;BYDAY=-1FR
SEQUENCE:0
SUMMARY:Double Digits
URL:https://www.fwcommunity.org/event/double-digits-2-2-2/
X-COST-TYPE:free
END:VEVENT
BEGIN:VEVENT
UID:ai1ec-21714@www.fwcommunity.org
DTSTAMP:20260423T142312Z
CATEGORIES:
CONTACT:
DESCRIPTION:<p><strong>Join us! We meet </strong>in-person each Sunday at 1
 0:00 am.  We begin each Sunday with pre-service prayer and coffee beginnin
 g at 9:45 AM. Children’s church is also available.</p>\n<p><b>Wilson Stree
 t Learning Center (Dance Studio)<br />\n</b><strong>744 Joann Street\, Cos
 ta Mesa\, CA 92627 </strong></p>\n<div></div>\n<div dir='ltr' data-smartma
 il='gmail_signature'>\n<div dir='ltr'>\n<div dir='ltr'>\n<div>Faith Worshi
 p Community</div>\n<div>office@fwcommunity.org</div>\n</div>\n</div>\n</di
 v>
DTSTART;TZID=America/Los_Angeles:20230507T094500
DTEND;TZID=America/Los_Angeles:20230507T123000
EXDATE;TZID=America/Los_Angeles:20230528T094500
EXDATE;TZID=America/Los_Angeles:20230917T094500
EXDATE;TZID=America/Los_Angeles:20231015T094500
EXDATE;TZID=America/Los_Angeles:20231029T094500
EXDATE;TZID=America/Los_Angeles:20231119T094500
EXDATE;TZID=America/Los_Angeles:20231224T094500
EXDATE;TZID=America/Los_Angeles:20240331T094500
EXDATE;TZID=America/Los_Angeles:20250420T094500
RRULE:FREQ=WEEKLY;UNTIL=20250831T235959Z;BYDAY=SU;WKST=MO
SEQUENCE:0
SUMMARY:10:00 AM Sunday Service!
URL:https://www.fwcommunity.org/event/1000-am-sunday-service/
X-COST-TYPE:free
END:VEVENT
BEGIN:VEVENT
UID:ai1ec-21797@www.fwcommunity.org
DTSTAMP:20260423T142312Z
CATEGORIES:
CONTACT:office@fwcommunity.org
DESCRIPTION:<p><strong>Join us at the American Legion this week.  </strong>
  The third Sunday of the month\, we take church to the American Legion. Ch
 ildren’s church is also available.  It is advisable to arrive early  to fi
 nd parking (mostly metered parking in the area.)</p>\n<p><b>American Legio
 n Post 291<br />\n</b>215 15th Street<br />\nNewport Beach\, CA <span styl
 e='font-weight: inherit\;'>92663</span></p>\n<div></div>\n<div dir='ltr' d
 ata-smartmail='gmail_signature'>\n<div dir='ltr'>\n<div dir='ltr'>\n<div>F
 aith Worship Community</div>\n<div>office@fwcommunity.org</div>\n</div>\n<
 /div>\n</div>
DTSTART;TZID=America/Los_Angeles:20230514T100000
DTEND;TZID=America/Los_Angeles:20230514T124500
EXDATE;TZID=America/Los_Angeles:20231119T100000
EXDATE;TZID=America/Los_Angeles:20231217T100000
LOCATION:American Legion Post 291 @ 215 15th Street\, Newport Beach\, CA 92
 663
RDATE;TZID=America/Los_Angeles:20230917T100000
RDATE;TZID=America/Los_Angeles:20231015T100000
RDATE;TZID=America/Los_Angeles:20231119T100000
RDATE;TZID=America/Los_Angeles:20231217T100000
SEQUENCE:0
SUMMARY:10:00 AM Chapel Service
URL:https://www.fwcommunity.org/event/1000-am-sunday-service-2/
X-COST-TYPE:free
END:VEVENT
BEGIN:VEVENT
UID:ai1ec-21501@www.fwcommunity.org
DTSTAMP:20260423T142312Z
CATEGORIES:
CONTACT:Ali\; ali@fwcommunity.org
DESCRIPTION:<p>FWC Women’s Coffee Connect meets monthly at the McDermott Ho
 me.  Join us\, and feel free to invite other women in your life\, for a ti
 me of connection with Jesus and with each other!  Please contact Ali McDer
 mott for location and directions.</p>
DTSTART;TZID=America/Los_Angeles:20230520T100000
DTEND;TZID=America/Los_Angeles:20230520T113000
LOCATION:The McDermott Home
RRULE:FREQ=MONTHLY;UNTIL=20230524T235959Z;BYDAY=3SA
SEQUENCE:0
SUMMARY:Women’s Coffee Connect
URL:https://www.fwcommunity.org/event/womens-coffee-connect-2/
X-COST-TYPE:free
END:VEVENT
BEGIN:VEVENT
UID:ai1ec-21502@www.fwcommunity.org
DTSTAMP:20260423T142312Z
CATEGORIES:
CONTACT:Ken Ott\; office@fwcommunity.org
DESCRIPTION:<p>Hey FWC Men!</p>\n<p>Start your weekend right with a hot bre
 akfast\, strong coffee and hanging out with other Christian brothers!</p>
 \n<p>Contact Ken if you have any questions.  Breakfast is provided so let 
 us know you will be there!</p>\n<p> </p>
DTSTART;TZID=America/Los_Angeles:20230527T083000
DTEND;TZID=America/Los_Angeles:20230527T103000
LOCATION:Ott Home
RRULE:FREQ=MONTHLY;COUNT=48;BYDAY=4SA
SEQUENCE:0
SUMMARY:Men’s Breakfast
URL:https://www.fwcommunity.org/event/mens-breakfast-9/
X-COST-TYPE:free
END:VEVENT
BEGIN:VEVENT
UID:ai1ec-21851@www.fwcommunity.org
DTSTAMP:20260423T142312Z
CATEGORIES:
CONTACT:office@fwcommunity.org
DESCRIPTION:<p>Come join us as we gather to worship and family fun in the p
 ark followed by BBQ & potluck lunch!</p>\n<ul>\n<li>Halecrest Back Clubhou
 se\; 3124 College Ave\, Costa Mesa\, CA 92626</li>\n<li>10AM Church</li>\n
 <li>BBQ & Potluck immediately following – We’ll provide the burgers and ho
 t dogs and you provide the sides and desserts!!</li>\n</ul>\n<p>Hope to se
 e you there!</p>
DTSTART;TZID=America/Los_Angeles:20230528T100000
DTEND;TZID=America/Los_Angeles:20230528T130000
LOCATION:Halecrest Park & Back Clubhouse @ 3124 College Ave\, Costa Mesa\, 
 CA 92626
SEQUENCE:0
SUMMARY:10:00 AM Sunday Service & BBQ in the Park!
URL:https://www.fwcommunity.org/event/1000-am-sunday-service-lunch-at-the-b
 each-2-2/
X-COST-TYPE:free
END:VEVENT
BEGIN:VEVENT
UID:ai1ec-21735@www.fwcommunity.org
DTSTAMP:20260423T142312Z
CATEGORIES:
CONTACT:office@fwcommunity.org
DESCRIPTION:<p>GATHER women meet the third Saturday of the month.  Join us\
 , and feel free to invite other women in your life\, for a time of connect
 ion with Jesus and with each other! Please contact the office for more inf
 ormation.</p>
DTSTART;TZID=America/Los_Angeles:20230617T094500
DTEND;TZID=America/Los_Angeles:20230617T113000
LOCATION:The McDermott Home
RRULE:FREQ=MONTHLY;COUNT=35;BYDAY=3SA
SEQUENCE:0
SUMMARY:GATHER
URL:https://www.fwcommunity.org/event/womens-coffee-connect-2-2/
X-COST-TYPE:free
END:VEVENT
BEGIN:VEVENT
UID:ai1ec-21759@www.fwcommunity.org
DTSTAMP:20260423T142312Z
CATEGORIES:
CONTACT:Janet\; office@fwcommunity.org
DESCRIPTION:<p><span style='color: #ff0000\;'><strong>FWC Summer Community 
 Nights are Back!!</strong></span></p>\n<p>Join us on Wednesday evenings th
 is summer for food\, family and fun including a fresh and interactive look
  at some of our favorite Bible Stories. You won’t want to miss it!<br />\n
 BBQ burgers provided\, bring a side dish to share!</p>\n<p>Dates: Wednesda
 ys this summer June 28th through August 2nd</p>\n<p>Time:  6:00 – 7:30PM</
 p>\n<p>Location: McDermott backyard<br />\n1451 Shamrock Lane<br />\nCosta
  Mesa</p>\n<p> </p>\n<p> </p>
DTSTART;TZID=America/Los_Angeles:20230628T180000
DTEND;TZID=America/Los_Angeles:20230628T193000
LOCATION:The McDermott Backyard
RRULE:FREQ=WEEKLY;COUNT=6
SEQUENCE:0
SUMMARY:Backyard Bible Story Theatre
URL:https://www.fwcommunity.org/event/backyard-bible-story-theatre/
X-COST-TYPE:free
END:VEVENT
BEGIN:VEVENT
UID:ai1ec-21504@www.fwcommunity.org
DTSTAMP:20260423T142312Z
CATEGORIES:
CONTACT:Alison McDermott\; 7142061800\; ali@fwcommunity.org
DESCRIPTION:<p><u><strong>Kids Club at Harbor Trinity</strong></u><br />\n<
 a href='https://fwcommunity.us10.list-manage.com/track/click?u=688a08f3ea8
 b775a7e561f84d&id=029236799a&e=62b629cc10' target='_blank' rel='noopener n
 oreferrer' data-saferedirecturl='https://www.google.com/url?q=https://fwco
 mmunity.us10.list-manage.com/track/click?u%3D688a08f3ea8b775a7e561f84d%26i
 d%3D029236799a%26e%3D62b629cc10&source=gmail&ust=1674779910681000&usg=AOvV
 aw35RdFVtkyBjikmiDFVu2xE'>Kids Club</a> is back for another session beginn
 ing on 9/13.  Register your kids (Ages 3+) for a great opportunity to lear
 n\, play and grow in the Lord during the week!<br />\n– Wednesdays (9/13-1
 1/15) @ 6:30-8pm<br />\n– Location: Harbor Trinity Church\, 1230 Baker St.
  Costa Mesa\, CA 92626<br />\n– Registration is required so <a href='https
 ://harbortrinity.breezechms.com/form/b6f7b49472'>Sign Up TODAY!</a></p>
DTSTART;TZID=America/Los_Angeles:20230913T183000
DTEND;TZID=America/Los_Angeles:20230913T200000
RRULE:FREQ=WEEKLY;UNTIL=20231120T235959Z;BYDAY=WE;WKST=MO
SEQUENCE:0
SUMMARY:Kid’s Club
URL:https://www.fwcommunity.org/event/kids-club/
X-COST-TYPE:free
END:VEVENT
BEGIN:VEVENT
UID:ai1ec-21503@www.fwcommunity.org
DTSTAMP:20260423T142312Z
CATEGORIES:
CONTACT:Janet\; office@fwcommunity.org
DESCRIPTION:<p><u><strong>Discipleship Wednesdays</strong></u><br />\nThis 
 fall we begin a new discipleship course based\, in part\, on the workbook\
 , “The Disciples Life\,” written by Adam Ayers. Journey with us on Wednesd
 ay nights as we work and grow together\, learning key aspects of what it i
 s to be a disciple of Jesus.</p>\n<p>For more information about D-Groups a
 nd the workbook project from Dr. Ayers and Built Deep: <a href='https://ww
 w.built-deep.org/our-impact'>https://www.built-deep.org/our-impact</a></p>
 \n<p>– Wednesdays (9/20-11/15) @ 6:30pm</p>
DTSTART;TZID=America/Los_Angeles:20230920T183000
DTEND;TZID=America/Los_Angeles:20230920T200000
EXDATE;TZID=America/Los_Angeles:20231115T183000
EXDATE;TZID=America/Los_Angeles:20231122T183000
LOCATION:The McDermott Home
RRULE:FREQ=WEEKLY;UNTIL=20231214T235959Z;BYDAY=WE;WKST=MO
SEQUENCE:0
SUMMARY:Discipleship Wednesdays
URL:https://www.fwcommunity.org/event/discipleship-crash-course/
X-COST-TYPE:free
END:VEVENT
BEGIN:VEVENT
UID:ai1ec-21800@www.fwcommunity.org
DTSTAMP:20260423T142312Z
CATEGORIES;LANGUAGE=en-US:FWC Church Events
CONTACT:Office\; office@fwcommunity.org
DESCRIPTION:<p>Are you 10 to 17 years old?  FWC Double Digits group meets o
 n the third Wednesday of each month!  Contact the office for more informat
 ion.  <a href='mailto:office@fwcommunity.org'>office@fwcommunity.org</a></
 p>\n<p> </p>
DTSTART;TZID=America/Los_Angeles:20230929T183000
DTEND;TZID=America/Los_Angeles:20230929T200000
EXDATE;TZID=America/Los_Angeles:20250620T183000
EXDATE;TZID=America/Los_Angeles:20250718T183000
EXDATE;TZID=America/Los_Angeles:20250815T183000
RDATE;TZID=America/Los_Angeles:20231117T183000
RDATE;TZID=America/Los_Angeles:20240119T183000
RDATE;TZID=America/Los_Angeles:20240216T183000
RDATE;TZID=America/Los_Angeles:20240315T183000
RDATE;TZID=America/Los_Angeles:20240419T183000
RDATE;TZID=America/Los_Angeles:20240517T183000
RDATE;TZID=America/Los_Angeles:20240621T183000
RDATE;TZID=America/Los_Angeles:20240719T183000
RDATE;TZID=America/Los_Angeles:20240816T183000
RDATE;TZID=America/Los_Angeles:20240920T183000
RDATE;TZID=America/Los_Angeles:20241018T183000
RDATE;TZID=America/Los_Angeles:20241115T183000
RDATE;TZID=America/Los_Angeles:20241220T183000
RDATE;TZID=America/Los_Angeles:20250516T183000
RDATE;TZID=America/Los_Angeles:20250620T183000
RDATE;TZID=America/Los_Angeles:20250718T183000
RDATE;TZID=America/Los_Angeles:20250815T183000
SEQUENCE:0
SUMMARY:Double Digits
URL:https://www.fwcommunity.org/event/double-digits-2-2-2-2/
X-COST-TYPE:free
END:VEVENT
BEGIN:VEVENT
UID:ai1ec-21733@www.fwcommunity.org
DTSTAMP:20260423T142312Z
CATEGORIES:
CONTACT:office@fwcommunity.org
DESCRIPTION:<p>It’s time for our annual Fall Family Sunday & Chili cook-off
 ! So\, get your recipes ready and then join us for a day of church\, fall 
 fun & food!</p>\n<p><strong>Location:  Halecrest Back Clubhouse<br />\n</s
 trong>                  3124 College Avenue<br />\nCosta Mesa\, 92626</p>
 \n<p>Church begins at 10:00.  See you there!</p>
DTSTART;TZID=America/Los_Angeles:20231029T100000
DTEND;TZID=America/Los_Angeles:20231029T130000
LOCATION:Halecrest Park & Back Clubhouse @ 3124 College Ave\, Costa Mesa\, 
 CA 92626
SEQUENCE:0
SUMMARY:10:00 AM Sunday Service & Chili Cookoff!
URL:https://www.fwcommunity.org/event/1000-am-sunday-service-lunch-at-the-b
 each-2/
X-COST-TYPE:free
END:VEVENT
BEGIN:VEVENT
UID:ai1ec-21881@www.fwcommunity.org
DTSTAMP:20260423T142312Z
CATEGORIES:
CONTACT:Janet Calhoun\; 7143178207\; office@fwcommunity.org
DESCRIPTION:<p>NO MORNING SERVICE this week.  We will be gathering for our 
 annual Thanksgiving Service and Potluck at the McDermott home! All are inv
 ited to join us. Our service will begin at 4:00pm and the potluck will beg
 in immediately following service.</p>\n<p>Please Contact us at: office@fwc
 ommunity.org for more information.</p>\n<p> </p>\n<p> </p>
DTSTART;TZID=America/Los_Angeles:20231119T160000
DTEND;TZID=America/Los_Angeles:20231119T190000
LOCATION:The McDermott Home
SEQUENCE:0
SUMMARY:Thanksgiving Service and Pot Luck
URL:https://www.fwcommunity.org/event/thanksgiving-service-and-pot-luck/
X-COST-TYPE:free
END:VEVENT
BEGIN:VEVENT
UID:ai1ec-21299@www.fwcommunity.org
DTSTAMP:20260423T142312Z
CATEGORIES:
CONTACT:Ali McDermott\; office@fwcommunity.org
DESCRIPTION:<p>NO MORNING SERVICE</p>\n<p>Our time of Advent will finish wi
 th our annual family candlelight Christmas Eve Service.  Please join us th
 is year for a special service at the McDermott home/back yard as we celebr
 ate the arrival of Emmanuel!</p>\n<p> </p>
DTSTART;TZID=America/Los_Angeles:20231224T163000
DTEND;TZID=America/Los_Angeles:20231224T180000
LOCATION:The McDermott House
RDATE;TZID=America/Los_Angeles:20231224T163000
SEQUENCE:0
SUMMARY:Christmas Eve Candlelight Service
URL:https://www.fwcommunity.org/event/christmaseve2022/
X-COST-TYPE:free
END:VEVENT
BEGIN:VEVENT
UID:ai1ec-21967@www.fwcommunity.org
DTSTAMP:20260423T142312Z
CATEGORIES:
CONTACT:
DESCRIPTION:
DTSTART;TZID=America/Los_Angeles:20240214T183000
DTEND;TZID=America/Los_Angeles:20240214T193000
LOCATION:The DeGuelle Home
SEQUENCE:0
SUMMARY:Ash Wednesday Service
URL:https://www.fwcommunity.org/event/ash-wednesday-service-5/
X-COST-TYPE:free
END:VEVENT
BEGIN:VEVENT
UID:ai1ec-21966@www.fwcommunity.org
DTSTAMP:20260423T142312Z
CATEGORIES:
CONTACT:Brad McDermott\; office@fwcommunity.org
DESCRIPTION:<p><strong>This Lent\, we fix our eyes on Jesus!</strong></p>\n
 <p>Join us on Wednesday evenings throughout the Lenten season as we contem
 plate the life Jesus wants for us and His church.  Our study is based on B
 ob Goff’s book\, <em>Undistracted: Capture Your Purpose\, Rediscover </em>
 <em>Your Joy.  </em>This book examines how distractions destroy our lives 
 and diverts us from the undistracted love and authentic connection Jesus c
 alls on us to embrace\, finding joy despite our circumstances.</p>\n<p> </
 p>\n<p> </p>
DTSTART;TZID=America/Los_Angeles:20240221T183000
DTEND;TZID=America/Los_Angeles:20240221T193000
LOCATION:The McDermott Home
RDATE;TZID=America/Los_Angeles:20240228T183000
RDATE;TZID=America/Los_Angeles:20240306T183000
RDATE;TZID=America/Los_Angeles:20240313T183000
RDATE;TZID=America/Los_Angeles:20240320T183000
RDATE;TZID=America/Los_Angeles:20240327T183000
SEQUENCE:0
SUMMARY:Lent Mid-Week Study
URL:https://www.fwcommunity.org/event/lent-mid-week-study/
X-COST-TYPE:free
END:VEVENT
BEGIN:VEVENT
UID:ai1ec-22663@www.fwcommunity.org
DTSTAMP:20260423T142312Z
CATEGORIES:
CONTACT:Janet\; office@fwcommunity.org
DESCRIPTION:<p>Join us on Good Friday as we gather to share a meal and part
 icipate in an interactive reflection of Jesus’ seven last words uttered fr
 om the cross.   Dinner will begin at 5:00 and the program will begin at 6:
 00 pm.  For directions and planning purposes\, please RSVP to Janet at:  o
 ffice@fwcommunity.org.</p>
DTSTART;TZID=America/Los_Angeles:20240329T170000
DTEND;TZID=America/Los_Angeles:20240329T193000
LOCATION:The McDermott Home
SEQUENCE:0
SUMMARY:Good Friday Service
URL:https://www.fwcommunity.org/event/good-friday-service-6-2/
X-COST-TYPE:free
END:VEVENT
BEGIN:VEVENT
UID:ai1ec-22661@www.fwcommunity.org
DTSTAMP:20260423T142312Z
CATEGORIES:
CONTACT:Office\; office@fwcommunity.org
DESCRIPTION:<p>The tradition continues! Join us this Easter Sunday\, March 
 31st at 6:00 AM for Sunrise Service on the sand at the Wedge in Newport Be
 ach.  We can’t wait to celebrate the resurrection of Jesus together this S
 unday!</p>\n<p>If you have not experienced church on the beach at sunrise 
 you are in for something special. But don’t keep this special Easter tradi
 tion to yourself – bring your friends\, family and neighbors too!  Here ar
 e a few reminders:</p>\n<ul>\n<li>Dress warm and bring a chair</li>\n<li>B
 e considerate of the neighbors and walk quietly from your car to the sand<
 /li>\n<li>No public restrooms available</li>\n<li>Join us for breakfast at
  the Chicken Coop after church! (Cash only)</li>\n</ul>\n<p><strong><em>NO
 TE:  We will not be meeting at Wilson Street Learning Center this Sunday. 
  We will resume our regular 10AM Sunday worship services on April 7.</em><
 /strong></p>
DTSTART;TZID=America/Los_Angeles:20240331T060000
DTEND;TZID=America/Los_Angeles:20240331T070000
LOCATION:The Wedge in Newport Beach
SEQUENCE:0
SUMMARY:Easter Sunrise Service
URL:https://www.fwcommunity.org/event/easter-sunrise-service-5-2/
X-COST-TYPE:free
END:VEVENT
BEGIN:VEVENT
UID:ai1ec-21968@www.fwcommunity.org
DTSTAMP:20260423T142312Z
CATEGORIES:
CONTACT:Janet\; office@fwcommunity.org
DESCRIPTION:<p>Join us on Good Friday as we gather to share a meal and refl
 ect of Jesus’ seven last words uttered from the cross.   Dinner will begin
  at 5:00 and the program will begin at 6:00 pm.  For directions and planni
 ng purposes\, please RSVP to Janet at:  office@fwcommunity.org.</p>
DTSTART;TZID=America/Los_Angeles:20250418T170000
DTEND;TZID=America/Los_Angeles:20250418T193000
LOCATION:The Ott Home
SEQUENCE:0
SUMMARY:Good Friday Service
URL:https://www.fwcommunity.org/event/good-friday-service-6/
X-COST-TYPE:free
END:VEVENT
BEGIN:VEVENT
UID:ai1ec-24032@www.fwcommunity.org
DTSTAMP:20260423T142312Z
CATEGORIES:
CONTACT:Office\; office@fwcommunity.org
DESCRIPTION:<p>The tradition continues! Join us on Easter Sunday\, April 20
 th\, for Sunrise Service on the sand at the Wedge in Newport Beach.  We re
 commend arriving at 5:45 AM to give ample time to park and walk down to th
 e beach.  We can’t wait to celebrate the resurrection of Jesus together th
 is Sunday!</p>\n<p>If you have not experienced church on the beach at sunr
 ise you are in for something special. But don’t keep this special Easter t
 radition to yourself – bring your friends\, family and neighbors too!  Her
 e are a few reminders:</p>\n<ul>\n<li>Dress warm and bring a chair</li>\n<
 li>Be considerate of the neighbors and walk quietly from your car to the s
 and</li>\n<li>No public restrooms available</li>\n<li>Join us for breakfas
 t at the Chicken Coop after church! (Cash only)</li>\n</ul>\n<p><strong><e
 m>NOTE:  We will not be meeting at Wilson Street Learning Center on Easter
  Sunday.  We will resume our regular 10AM Sunday worship services on April
  27.</em></strong></p>
DTSTART;TZID=America/Los_Angeles:20250420T054500
DTEND;TZID=America/Los_Angeles:20250420T064500
LOCATION:The Wedge in Newport Beach
SEQUENCE:0
SUMMARY:Easter Sunrise Service
URL:https://www.fwcommunity.org/event/easter-sunrise-service-5-3/
X-COST-TYPE:free
END:VEVENT
BEGIN:VEVENT
UID:ai1ec-23098@www.fwcommunity.org
DTSTAMP:20260423T142312Z
CATEGORIES:
CONTACT:Janet Calhoun\; office@fwcommunity.org
DESCRIPTION:<p>Faith Worship Community gathers in homes each Sunday.</p>\n<
 p>By meeting in homes\, we’re creating room for more intimate worship\, ho
 nest conversations\, and shared life. We want to experience God not just o
 n Sundays\, but in the everyday rhythms of friendship\, hospitality\, and 
 grace.</p>\n<p>Worship & service begin at 10:00am.</p>\n<p>For location or
  more info\, please contact us directly at <a href='mailto:office@fwcommun
 ity.org'>office@fwcommunity.org</a></p>\n<p> </p>
DTSTART;TZID=America/Los_Angeles:20250907T100000
DTEND;TZID=America/Los_Angeles:20250907T114500
EXDATE;TZID=America/Los_Angeles:20260405T100000
RRULE:FREQ=WEEKLY;BYDAY=SU;WKST=MO
SEQUENCE:0
SUMMARY:10:00 AM Sunday Service!
URL:https://www.fwcommunity.org/event/1000-am-sunday-service-3/
X-COST-TYPE:free
END:VEVENT
BEGIN:VEVENT
UID:ai1ec-21969@www.fwcommunity.org
DTSTAMP:20260423T142312Z
CATEGORIES:
CONTACT:Office\; office@fwcommunity.org
DESCRIPTION:<p>The tradition continues! Join us on Easter Sunday\, April 5t
 h\, for Sunrise Service on the sand at the Wedge in Newport Beach.  We rec
 ommend arriving at 5:45 AM to give ample time to park and walk down to the
  beach.  We can’t wait to celebrate the resurrection of Jesus together thi
 s Sunday!</p>\n<p>If you have not experienced church on the beach at sunri
 se you are in for something special. But don’t keep this special Easter tr
 adition to yourself – bring your friends\, family and neighbors too!  Here
  are a few reminders:</p>\n<ul>\n<li>Dress warm and bring a chair</li>\n<l
 i>Be considerate of the neighbors and walk quietly from your car to the sa
 nd</li>\n<li>No public restrooms available</li>\n<li>Join us for breakfast
  at the Chicken Coop after church! (Cash only)</li>\n</ul>
DTSTART;TZID=America/Los_Angeles:20260405T054500
DTEND;TZID=America/Los_Angeles:20260405T064500
LOCATION:The Wedge in Newport Beach
SEQUENCE:0
SUMMARY:Easter Sunrise Service
URL:https://www.fwcommunity.org/event/easter-sunrise-service-5/
X-COST-TYPE:free
END:VEVENT
END:VCALENDAR
